BEGIN:VCALENDAR
VERSION:2.0
PRODID:-//Twisted Oak Farm Brewery - ECPv6.15.20//NONSGML v1.0//EN
CALSCALE:GREGORIAN
METHOD:PUBLISH
X-ORIGINAL-URL:https://twistedoakfarmbrewery.com
X-WR-CALDESC:Events for Twisted Oak Farm Brewery
REFRESH-INTERVAL;VALUE=DURATION:PT1H
X-Robots-Tag:noindex
X-PUBLISHED-TTL:PT1H
BEGIN:VTIMEZONE
TZID:America/New_York
BEGIN:DAYLIGHT
TZOFFSETFROM:-0500
TZOFFSETTO:-0400
TZNAME:EDT
DTSTART:20250309T070000
END:DAYLIGHT
BEGIN:STANDARD
TZOFFSETFROM:-0400
TZOFFSETTO:-0500
TZNAME:EST
DTSTART:20251102T060000
END:STANDARD
BEGIN:DAYLIGHT
TZOFFSETFROM:-0500
TZOFFSETTO:-0400
TZNAME:EDT
DTSTART:20260308T070000
END:DAYLIGHT
BEGIN:STANDARD
TZOFFSETFROM:-0400
TZOFFSETTO:-0500
TZNAME:EST
DTSTART:20261101T060000
END:STANDARD
BEGIN:DAYLIGHT
TZOFFSETFROM:-0500
TZOFFSETTO:-0400
TZNAME:EDT
DTSTART:20270314T070000
END:DAYLIGHT
BEGIN:STANDARD
TZOFFSETFROM:-0400
TZOFFSETTO:-0500
TZNAME:EST
DTSTART:20271107T060000
END:STANDARD
END:VTIMEZONE
BEGIN:VEVENT
DTSTART;TZID=America/New_York:20260321T120000
DTEND;TZID=America/New_York:20260321T180000
DTSTAMP:20260421T064352
CREATED:20260316T213939Z
LAST-MODIFIED:20260316T213939Z
UID:10000495-1774094400-1774116000@twistedoakfarmbrewery.com
SUMMARY:Food Truck:  Logan's Seafood
DESCRIPTION:
URL:https://twistedoakfarmbrewery.com/event/food-truck-logans-seafood/
LOCATION:Twisted Oak Farm Brewery\, 912 White Post Rd\, White Post\, VA\, 22663\, United States
CATEGORIES:Food Trucks
END:VEVENT
BEGIN:VEVENT
DTSTART;VALUE=DATE:20260329
DTEND;VALUE=DATE:20260330
DTSTAMP:20260421T064352
CREATED:20260319T012440Z
LAST-MODIFIED:20260319T012440Z
UID:10000501-1774742400-1774828799@twistedoakfarmbrewery.com
SUMMARY:Food Truck:  Cousins Maine lobster
DESCRIPTION:
URL:https://twistedoakfarmbrewery.com/event/food-truck-cousins-maine-lobster/
LOCATION:Twisted Oak Farm Brewery\, 912 White Post Rd\, White Post\, VA\, 22663\, United States
CATEGORIES:Food Trucks
END:VEVENT
END:VCALENDAR